BEGIN:VCALENDAR
VERSION:2.0
PRODID:-//Key West Hotel | The Reach Key West - ECPv6.15.20//NONSGML v1.0//EN
CALSCALE:GREGORIAN
METHOD:PUBLISH
X-ORIGINAL-URL:https://reachresort.com
X-WR-CALDESC:Events for Key West Hotel | The Reach Key West
REFRESH-INTERVAL;VALUE=DURATION:PT1H
X-Robots-Tag:noindex
X-PUBLISHED-TTL:PT1H
BEGIN:VTIMEZONE
TZID:America/New_York
BEGIN:DAYLIGHT
TZOFFSETFROM:-0500
TZOFFSETTO:-0400
TZNAME:EDT
DTSTART:20240310T070000
END:DAYLIGHT
BEGIN:STANDARD
TZOFFSETFROM:-0400
TZOFFSETTO:-0500
TZNAME:EST
DTSTART:20241103T060000
END:STANDARD
BEGIN:DAYLIGHT
TZOFFSETFROM:-0500
TZOFFSETTO:-0400
TZNAME:EDT
DTSTART:20250309T070000
END:DAYLIGHT
BEGIN:STANDARD
TZOFFSETFROM:-0400
TZOFFSETTO:-0500
TZNAME:EST
DTSTART:20251102T060000
END:STANDARD
BEGIN:DAYLIGHT
TZOFFSETFROM:-0500
TZOFFSETTO:-0400
TZNAME:EDT
DTSTART:20260308T070000
END:DAYLIGHT
BEGIN:STANDARD
TZOFFSETFROM:-0400
TZOFFSETTO:-0500
TZNAME:EST
DTSTART:20261101T060000
END:STANDARD
END:VTIMEZONE
BEGIN:VEVENT
DTSTART;VALUE=DATE:20250829
DTEND;VALUE=DATE:20250902
DTSTAMP:20260421T042036
CREATED:20240723T185720Z
LAST-MODIFIED:20250812T132344Z
UID:2334-1756425600-1756771199@reachresort.com
SUMMARY:Labor Day Weekend at The Reach
DESCRIPTION:Celebrate Labor Day Weekend in Key West at The ReachMake this Labor Day unforgettable at The Reach Key West\, your oceanfront escape in the heart of the island. Spend your days enjoying live music\, poolside lounging\, and fun beachside games. Savor fresh\, coastal flavors with oceanfront dining just steps from the sand\, then unwind as the sun sets over our private shoreline. Extend your long weekend with our Stay Longer & Save offer — book now and enjoy up to 20% off your Labor Day getaway. \nBook Now\n\nLabor Day Weekend Happenings at The Reach\nLive Entertainment | Friday – Saturday | 5 pm – 9 pm | Four MarlinsAcoustic music into the evening \nSnow Cone Station | Friday | 4pm | Pool & Beach \nChill out with a refreshing snow cone in your favorite flavor. Perfect for cooling down between dips in the pool or strolls along the shore. \nOceanfront Basket Pong | Saturday | 2pm | Reach Beach \nGrab a teammate and test your aim in our oversized twist on a classic backyard game\, made even better with sandy toes and ocean views. \nBeach Olympics | Sunday | 3pm | Reach Beach \nBring your competitive spirit for an afternoon of beachside challenges and laughs. Fun\, friendly\, and made for all ages. \nWeekend Oceanfront Brunch | Saturday & Sunday | 7am-2pm | Live Music 10am – 2pm | Four Marlins \nSavor fresh coastal flavors and sweeping ocean views while enjoying live music that sets the perfect weekend vibe. \nOceanfront Dining at Its Finest\nSavor island-inspired flavors with a front-row seat to the sea. Begin your culinary journey at The Reach with fresh\, coastal cuisine at Four Marlins Oceanfront Dining\, where every meal is served with sweeping ocean views and warm island breezes. Looking to explore beyond our shore? Our sister resort\, Casa Marina\, offers even more to discover—indulge in breakfast at Flagler’s\, Baja-Med creations at Dorada\, or handcrafted cocktails at The Canary Room. Whether you’re in the mood for seafood\, small plates\, or a sunset sip\, your perfect table awaits. \nReserve Your Table \nBeachside Bliss: Cabanas & Daybeds\nUnwind in style with a private cabana or plush daybed experience on Key West’s only natural sand beach. Whether you’re soaking up the energy of the resort or seeking a quiet coastal escape\, each rental comes with premium seating\, shade\, and attentive service. It’s your personal slice of paradise—perfect for sun-drenched afternoons and unforgettable memories by the water. \nBook Now \nExplore the Water with Barefoot Billy’s\nAdventure starts where the ocean meets the shore. With Barefoot Billy’s located right onsite\, you’re just steps away from paddleboarding through turquoise waters\, snorkeling above vibrant reefs\, jet skiing across the coastline\, or setting sail at sunset. Your Key West experience isn’t complete without time on the water. \nLearn More \nSpa Al Mare: Relax\, Renew\, Recharge\nStep into serenity at Spa al Mare\, where relaxation is the only item on your to-do list. Treat yourself to a soothing massage\, brightening facial\, or custom body treatment—all designed to leave you feeling refreshed and radiant. A visit to the spa is the ultimate way to settle into the weekend spirit. \nView Details \nOceanfront Relaxation at Its Best\nLocated in the heart of Key West\, The Reach offers a serene escape with access to the island’s only natural sand beach. Lounge in a cabana\, dine at Four Marlins\, and explore immersive experiences all weekend long. \nReserve Now
URL:https://reachresort.com/event-calendar/labor-day-weekend-at-the-reach/
LOCATION:The Reach Key West\, 1435 Simonton St.\, Key West\, FL\, 33040\, United States
CATEGORIES:Holiday,Special Event
END:VEVENT
END:VCALENDAR