BEGIN:VCALENDAR
VERSION:2.0
PRODID:-//Key West Hotel | The Reach Key West - ECPv6.15.20//NONSGML v1.0//EN
CALSCALE:GREGORIAN
METHOD:PUBLISH
X-WR-CALNAME:Key West Hotel | The Reach Key West
X-ORIGINAL-URL:https://reachresort.com
X-WR-CALDESC:Events for Key West Hotel | The Reach Key West
REFRESH-INTERVAL;VALUE=DURATION:PT1H
X-Robots-Tag:noindex
X-PUBLISHED-TTL:PT1H
BEGIN:VTIMEZONE
TZID:America/New_York
BEGIN:DAYLIGHT
TZOFFSETFROM:-0500
TZOFFSETTO:-0400
TZNAME:EDT
DTSTART:20250309T070000
END:DAYLIGHT
BEGIN:STANDARD
TZOFFSETFROM:-0400
TZOFFSETTO:-0500
TZNAME:EST
DTSTART:20251102T060000
END:STANDARD
BEGIN:DAYLIGHT
TZOFFSETFROM:-0500
TZOFFSETTO:-0400
TZNAME:EDT
DTSTART:20260308T070000
END:DAYLIGHT
BEGIN:STANDARD
TZOFFSETFROM:-0400
TZOFFSETTO:-0500
TZNAME:EST
DTSTART:20261101T060000
END:STANDARD
BEGIN:DAYLIGHT
TZOFFSETFROM:-0500
TZOFFSETTO:-0400
TZNAME:EDT
DTSTART:20270314T070000
END:DAYLIGHT
BEGIN:STANDARD
TZOFFSETFROM:-0400
TZOFFSETTO:-0500
TZNAME:EST
DTSTART:20271107T060000
END:STANDARD
END:VTIMEZONE
BEGIN:VEVENT
DTSTART;TZID=America/New_York:20260208T173000
DTEND;TZID=America/New_York:20260208T220000
DTSTAMP:20260422T065334
CREATED:20230131T121828Z
LAST-MODIFIED:20260203T150057Z
UID:2188-1770571800-1770588000@reachresort.com
SUMMARY:The Big Game Beachfront Tailgate
DESCRIPTION:Big Game Beachfront Tailgate at The Reach Key West\nWatch the Big Game on the sand with oceanfront views\, tailgate favorites\, and laid-back island energy. \nGame on\, island style. Join us for the Big Game Beachfront Tailgate at The Reach Key West\, where football meets ocean breeze. Bring your crew\, grab a cocktail\, and catch every play on our giant viewing screen—all just steps from the Atlantic. This is the ultimate way to experience the Big Game in Key West. \nEvent Highlights\n\nAll-You-Can-Eat Tailgate Buffet – $80 per person\nComplimentary Valet Parking Included\nDrink Specials Available\nGiant Beachfront Viewing Screen\n\nReserve Now\n  \nUpgrade Your Game Day Experience\nReserve a private daybed or cabana for premium beachfront viewing \nTake your Big Game experience up a level with a reserved setup just steps from the action. Perfect for couples\, small groups\, and VIP-style game day lounging. \n\nDaybeds: $250\nCabanas: $350\n\nRental only. Does not include buffet. \nBook Your Cabana or Daybed
URL:https://reachresort.com/event-calendar/catch-the-big-game/
LOCATION:FL
CATEGORIES:Holiday,Special Event,Dining Special
ATTACH;FMTTYPE=image/jpeg:https://reachresort.com/wp-content/uploads/dave-adamson-XXqNsborcjU-unsplash.jpg
END:VEVENT
END:VCALENDAR